BEGIN:VCALENDAR
VERSION:2.0
PRODID:-//ChamberMaster//Event Calendar 2.0//EN
METHOD:PUBLISH
X-PUBLISHED-TTL:P1H
REFRESH-INTERVAL:P1H
CALSCALE:GREGORIAN
BEGIN:VTIMEZONE
TZID:America/New_York
BEGIN:DAYLIGHT
RRULE:FREQ=YEARLY;BYMONTH=3;BYDAY=2SU
DTSTART:20070101T000000
TZOFFSETFROM:-0500
TZOFFSETTO:-0400
TZNAME:Eastern Daylight Time
END:DAYLIGHT
BEGIN:STANDARD
RRULE:FREQ=YEARLY;BYMONTH=11;BYDAY=1SU
DTSTART:20070101T000000
TZOFFSETFROM:-0400
TZOFFSETTO:-0500
TZNAME:Eastern Standard Time
END:STANDARD
END:VTIMEZONE
BEGIN:VEVENT
DTSTART;TZID=America/New_York:20260425T071500
DTEND;TZID=America/New_York:20260425T173000
X-MICROSOFT-CDO-ALLDAYEVENT:FALSE
SUMMARY:2026 North Jersey Transit Forum
DESCRIPTION:North Jersey Transit ForumWhat if North Jersey had a transit system that truly served everyone? The 2026 North Jersey Transit Forum creates a space for residents\, agencies\, businesses\, and community leaders to answer that question together. Organized by HudCoStreets\, the forum transforms diverse perspectives into a powerful\, unified vision for the future of regional mobility.\nProgramming & SpeakersKeynote Speaker: Priya Jain\, Chair of NJ TRANSIT\, Commissioner of the New Jersey Department of TransportationMC: Katie Brennan\, Assemblywoman\, District 32Welcome: James Solomon\, Mayor\, Jersey CityOpening Remarks: Craig Guy\, County Executive\, Hudson County\n8:30 am - Better Buses: Exploring BRT for Hudson County and BeyondFrancesca Giarratana\, Deputy Director\, Dept. of PlanningLeah Katz\, Acting Senior Director\, Capital Planning\, NJ TransitWalter Hook\, Ph.D.\, BRT Planning InternationalRenae Reynolds Executive Director\, Tri-State Transportation CampaignPhil Betheil\, Deputy Director of Bus Priority\, NYCDOTModerator: Clayton Lane Trustee\, HudCoStreetsModerator: James Lee Trustee\, HudCoStreets\n9:20 am - Better PATH: From Service Improvements to EWR Extension PlanRaishea Haines\, Superintendent of Transportation at PATHJim Heitmann\, Chief Operating Officer\, PANYNJMorgan Keane\,  Program Director\, CX Strategy & Execution\, PANYNJRebecca Riehl\, Assistant Director\, Passenger Services & Customer Experience DivisionModerator: Andy Kaplan\, Jersey City Director of Infrastructure\, ITE-Met board\, HudCoStreets Advisory Council\n10:10 am - Better Light Rail: Connecting Hudson\, Bergen & Essex CountiesDenise Ridley\, Council President\, Jersey CityLeah Katz\, Acting Senior Director\, Capital Planning\,.NJ TransitBill O'Dea\, Hudson County Commissioner\, District 2Emily Manz\, Chief Business Development Officer\, Director of Marketing\, Invest NewarkTimothy Henkel\, Chief Executive Officer\, Pennrose\, LLCShama A. Haider\, Assemblywoman\, District 37Moderator: Emory Edwards\, Executive Dir. Hudson County Chamber of Commerce\n11:00 am - Funding Transit in New Jersey: From Operations to Capital ProjectsSenator Angela McKnight\, District 31Senator Raj Mukherji\, District 32Assemblywoman Katie Brennan\, District 32Rep. LaMonica McIver\, (NJ-10)Rep. Rob Menendez\, (NJ-08)Assemblyman Andrew Macurdy\, District 21Moderator: Zoe Baldwin VP\, State Programs\, Regional Plan AssociationModerator: Doug O'Malley State Director\, Environment NJ\n1:30 pm - "Panel 5": Access to Transit and First & Last Mile SolutionsSam Schwartz\, Chair\, The Roosevelt House Public Policy Institute at Hunter CollegeShabazz Stuart\, Founder and CEO of OoneeDebra Kagan\, Executive Director\, NJ Bike & Walk CoalitionCharles T. Brown\, Founder and CEO\, Equitable Cities LLCAndy Kaplan\, Jersey City Director of Infrastructure\, ITE-Met board\, HudCoStreets Advisory CouncilModerator\, Talya Schwartz\, President of SafeStreets JC\, Vice President of HudCoStreets\nSponsorship OpportunitiesWe are inviting partners and businesses to help support the work that makes this forum a reality. If you would like to connect about sponsorship opportunities contact Emmanuelle Morgen at emmanuelle@hudcostreets.org.View Sponsorship Opportunities
X-ALT-DESC;FMTTYPE=text/html:<!DOCTYPE html><html><head><title></title></head><body aria-disabled="false" data-gr-ext-installed="" data-new-gr-c-s-check-loaded="14.1283.0" data-new-gr-c-s-loaded="14.1283.0"><p><a fr-original-style="" href="https://hudcostreets.org/2026-transit-forum#program" rel="noopener noreferrer" style="user-select: auto\;" target="_blank"><strong fr-original-style="" style="font-weight: 700\;"><span style="font-family: Tahoma\,Geneva\,sans-serif\;">North Jersey Transit Forum</span></strong></a></p><p><span style="font-family: Tahoma\,Geneva\,sans-serif\;">What if North Jersey had a transit system that truly served everyone? The 2026 North Jersey Transit Forum creates a space for residents\, agencies\, businesses\, and community leaders to answer that question together. Organized by HudCoStreets\, the forum transforms diverse perspectives into a powerful\, unified vision for the future of regional mobility.</span></p><p><br></p><p><strong fr-original-style="" style="font-weight: 700\;"><span style="font-family: Tahoma\,Geneva\,sans-serif\;">Programming &amp\; Speakers</span></strong></p><p><span style="font-family: Tahoma\,Geneva\,sans-serif\;"><strong fr-original-style="" style="font-weight: 700\;">Keynote Speaker</strong>: Priya Jain\, Chair of NJ TRANSIT\, Commissioner of the New Jersey Department of Transportation</span></p><p><span style="font-family: Tahoma\,Geneva\,sans-serif\;"><strong fr-original-style="" style="font-weight: 700\;">MC</strong>: Katie Brennan\, Assemblywoman\, District 32</span></p><p><span style="font-family: Tahoma\,Geneva\,sans-serif\;"><strong fr-original-style="" style="font-weight: 700\;">Welcome</strong>: James Solomon\, Mayor\, Jersey City</span></p><p><span style="font-family: Tahoma\,Geneva\,sans-serif\;"><strong fr-original-style="" style="font-weight: 700\;">Opening Remarks</strong>: Craig Guy\, County Executive\, Hudson County</span></p><p><span style="font-family: Tahoma\,Geneva\,sans-serif\;"><br></span></p><p><span style="font-family: Tahoma\,Geneva\,sans-serif\;"><strong fr-original-style="" style="font-weight: 700\;">8:30 am - Better Buses: Exploring BRT for Hudson County and Beyond</strong></span></p><p><span style="font-family: Tahoma\,Geneva\,sans-serif\;">Francesca Giarratana\, Deputy Director\, Dept. of Planning</span></p><p><span style="font-family: Tahoma\,Geneva\,sans-serif\;">Leah Katz\, Acting Senior Director\, Capital Planning\, NJ Transit</span></p><p><span style="font-family: Tahoma\,Geneva\,sans-serif\;">Walter Hook\, Ph.D.\, BRT Planning International</span></p><p><span style="font-family: Tahoma\,Geneva\,sans-serif\;">Renae Reynolds Executive Director\, Tri-State Transportation Campaign</span></p><p><span style="font-family: Tahoma\,Geneva\,sans-serif\;">Phil Betheil\, Deputy Director of Bus Priority\, NYCDOT</span></p><p><span style="font-family: Tahoma\,Geneva\,sans-serif\;"><strong fr-original-style="" style="font-weight: 700\;">Moderator</strong>: Clayton Lane Trustee\, HudCoStreets</span></p><p><span style="font-family: Tahoma\,Geneva\,sans-serif\;"><strong fr-original-style="" style="font-weight: 700\;">Moderator</strong>: James Lee Trustee\, HudCoStreets</span></p><p><span style="font-family: Tahoma\,Geneva\,sans-serif\;"><br></span></p><p><span style="font-family: Tahoma\,Geneva\,sans-serif\;"><strong fr-original-style="" style="font-weight: 700\;">9:20 am - Better PATH: From Service Improvements to EWR Extension Plan</strong></span></p><p><span style="font-family: Tahoma\,Geneva\,sans-serif\;">Raishea Haines\, Superintendent of Transportation at PATH</span></p><p><span style="font-family: Tahoma\,Geneva\,sans-serif\;">Jim Heitmann\, Chief Operating Officer\, PANYNJ</span></p><p><span style="font-family: Tahoma\,Geneva\,sans-serif\;">Morgan Keane\, &nbsp\;Program Director\, CX Strategy &amp\; Execution\, PANYNJ</span></p><p><span style="font-family: Tahoma\,Geneva\,sans-serif\;">Rebecca Riehl\, Assistant Director\, Passenger Services &amp\; Customer Experience Division</span></p><p><span style="font-family: Tahoma\,Geneva\,sans-serif\;">Moderator: Andy Kaplan\, Jersey City Director of Infrastructure\, ITE-Met board\, HudCoStreets Advisory Council</span></p><p><span style="font-family: Tahoma\,Geneva\,sans-serif\;"><br></span></p><p><span style="font-family: Tahoma\,Geneva\,sans-serif\;"><strong fr-original-style="" style="font-weight: 700\;">10:10 am - Better Light Rail: Connecting Hudson\, Bergen &amp\; Essex Counties</strong></span></p><p><span style="font-family: Tahoma\,Geneva\,sans-serif\;">Denise Ridley\, Council President\, Jersey City</span></p><p><span style="font-family: Tahoma\,Geneva\,sans-serif\;">Leah Katz\, Acting Senior Director\, Capital Planning\,.NJ Transit</span></p><p><span style="font-family: Tahoma\,Geneva\,sans-serif\;">Bill O&rsquo\;Dea\, Hudson County Commissioner\, District 2</span></p><p><span style="font-family: Tahoma\,Geneva\,sans-serif\;">Emily Manz\, Chief Business Development Officer\, Director of Marketing\, Invest Newark</span></p><p><span style="font-family: Tahoma\,Geneva\,sans-serif\;">Timothy Henkel\, Chief Executive Officer\, Pennrose\, LLC</span></p><p><span style="font-family: Tahoma\,Geneva\,sans-serif\;">Shama A. Haider\, Assemblywoman\, District 37</span></p><p><span style="font-family: Tahoma\,Geneva\,sans-serif\;"><strong fr-original-style="" style="font-weight: 700\;">Moderator</strong>: Emory Edwards\, Executive Dir. Hudson County Chamber of Commerce</span></p><p><span style="font-family: Tahoma\,Geneva\,sans-serif\;"><br></span></p><p><span style="font-family: Tahoma\,Geneva\,sans-serif\;"><strong fr-original-style="" style="font-weight: 700\;">11:00 am - Funding Transit in New Jersey: From Operations to Capital Projects</strong></span></p><p><span style="font-family: Tahoma\,Geneva\,sans-serif\;">Senator Angela McKnight\, District 31</span></p><p><span style="font-family: Tahoma\,Geneva\,sans-serif\;">Senator Raj Mukherji\, District 32</span></p><p><span style="font-family: Tahoma\,Geneva\,sans-serif\;">Assemblywoman Katie Brennan\, District 32</span></p><p><span style="font-family: Tahoma\,Geneva\,sans-serif\;">Rep. LaMonica McIver\, (NJ-10)</span></p><p><span style="font-family: Tahoma\,Geneva\,sans-serif\;">Rep. Rob Menendez\, (NJ-08)</span></p><p><span style="font-family: Tahoma\,Geneva\,sans-serif\;">Assemblyman Andrew Macurdy\, District 21</span></p><p><span style="font-family: Tahoma\,Geneva\,sans-serif\;"><strong fr-original-style="" style="font-weight: 700\;">Moderator</strong>: Zoe Baldwin VP\, State Programs\, Regional Plan Association</span></p><p><span style="font-family: Tahoma\,Geneva\,sans-serif\;"><strong fr-original-style="" style="font-weight: 700\;">Moderator</strong>: Doug O&#39\;Malley State Director\, Environment NJ</span></p><p><span style="font-family: Tahoma\,Geneva\,sans-serif\;"><br></span></p><p><span style="font-family: Tahoma\,Geneva\,sans-serif\;"><strong fr-original-style="" style="font-weight: 700\;">1:30 pm - &ldquo\;Panel 5&rdquo\;: Access to Transit and First &amp\; Last Mile Solutions</strong></span></p><p><span style="font-family: Tahoma\,Geneva\,sans-serif\;">Sam Schwartz\, Chair\, The Roosevelt House Public Policy Institute at Hunter College</span></p><p><span style="font-family: Tahoma\,Geneva\,sans-serif\;">Shabazz Stuart\, Founder and CEO of Oonee</span></p><p><span style="font-family: Tahoma\,Geneva\,sans-serif\;">Debra Kagan\, Executive Director\, NJ Bike &amp\; Walk Coalition</span></p><p><span style="font-family: Tahoma\,Geneva\,sans-serif\;">Charles T. Brown\, Founder and CEO\, Equitable Cities LLC</span></p><p><span style="font-family: Tahoma\,Geneva\,sans-serif\;">Andy Kaplan\, Jersey City Director of Infrastructure\, ITE-Met board\, HudCoStreets Advisory Council</span></p><p><span style="font-family: Tahoma\,Geneva\,sans-serif\;">Moderator\, Talya Schwartz\, President of SafeStreets JC\, Vice President of HudCoStreets</span></p><p><span style="font-family: Tahoma\,Geneva\,sans-serif\;"><br></span></p><p><span style="font-family: Tahoma\,Geneva\,sans-serif\;"><strong fr-original-style="" style="font-weight: 700\;">Sponsorship Opportunities</strong></span></p><p><span style="font-family: Tahoma\,Geneva\,sans-serif\;">We are inviting partners and businesses to help support the work that makes this forum a reality. If you would like to connect about sponsorship opportunities contact Emmanuelle Morgen at <a fr-original-style="" href="mailto:emmanuelle@hudcostreets.org" style="user-select: auto\;">emmanuelle@hudcostreets.org</a>.</span></p><p><a fr-original-style="" href="https://static1.squarespace.com/static/610c434e7283f601f262d8bd/t/6994702c00f26e3e401bd142/1771335724509/Transit+Forum+sponsorship+deck+%28final%29.pdf" rel="noopener noreferrer" style="user-select: auto\;" target="_blank"><span style="font-family: Tahoma\,Geneva\,sans-serif\;">View Sponsorship Opportunities</span></a></p></body></html>
LOCATION:2641 John F. Kennedy Boulevard Jersey City NJ 07306
UID:e.4074.1444402
SEQUENCE:3
DTSTAMP:20260423T060217Z
URL:https://business.hudsonchamber.org/chambereventcalendar/Details/2026-north-jersey-transit-forum-1710780?sourceTypeId=Hub
END:VEVENT
END:VCALENDAR
