BEGIN:VCALENDAR
VERSION:2.0
PRODID:-//ChamberMaster//Event Calendar 2.0//EN
METHOD:PUBLISH
X-PUBLISHED-TTL:P1H
REFRESH-INTERVAL:P1H
CALSCALE:GREGORIAN
BEGIN:VTIMEZONE
TZID:America/New_York
BEGIN:DAYLIGHT
RRULE:FREQ=YEARLY;BYMONTH=3;BYDAY=2SU
DTSTART:20070101T000000
TZOFFSETFROM:-0500
TZOFFSETTO:-0400
TZNAME:Eastern Daylight Time
END:DAYLIGHT
BEGIN:STANDARD
RRULE:FREQ=YEARLY;BYMONTH=11;BYDAY=1SU
DTSTART:20070101T000000
TZOFFSETFROM:-0400
TZOFFSETTO:-0500
TZNAME:Eastern Standard Time
END:STANDARD
END:VTIMEZONE
BEGIN:VEVENT
DTSTART;TZID=America/New_York:20260514T000000
DTEND;TZID=America/New_York:20260514T235900
X-MICROSOFT-CDO-ALLDAYEVENT:FALSE
SUMMARY:Hudson Gives 2026
DESCRIPTION:Hudson Gives unites our community by spotlighting local causes\, attracting new donors and volunteers\, raising and raising much need funds. Part of our Give Local strategy\, our goal is to strengthen our nonprofits and lift all of our neighbors. Everyone can play an important role. Now in our 8th year\, help us break the million dollar mark and break 5\,000 donors. We need you! By supporting Hudson Gives directly\, you can help all participants. Corporations\, foundations and individuals can sponsor prizes\, contribute matching dollars or other incentives\, and offset giving day expenses. Contact us at foundation@hudsonchamber.org for more information. Helping in this way can secure your own philanthropic visibility\, build goodwill and assist our entire Hudson Chamber nonprofit members. To donate\, please mark your calendar for Thursday\, May 14! In the meantime\, visit HudsonGives.org to learn more about our participating organizations and pick your favorites. If you don't see your favorite nonprofit\, reach out to them to encourage their participation or make an introduction to the Hudson Gives team! Join the movement and be part of something great. Hudson County\, NJ\, has great need and tremendous nonprofits. See you on May 14!
X-ALT-DESC;FMTTYPE=text/html:<!DOCTYPE html><html><head><title></title></head><body aria-disabled="false"><p><span style="font-family: Tahoma\,Geneva\,sans-serif\;">Hudson Gives unites our community by spotlighting local causes\, attracting new donors and volunteers\, raising and raising much need funds. Part of our Give Local strategy\, our goal is to strengthen our nonprofits and lift all of our neighbors. Everyone can play an important role.&nbsp\;</span></p><p><span style="font-family: Tahoma\,Geneva\,sans-serif\;">Now in our 8th year\, help us break the million dollar mark and break 5\,000 donors. We need you! By supporting Hudson Gives directly\, you can help all participants. Corporations\, foundations and individuals can sponsor prizes\, contribute matching dollars or other incentives\, and offset giving day expenses.&nbsp\;</span></p><p><span style="font-family: Tahoma\,Geneva\,sans-serif\;">Contact us at foundation@hudsonchamber.org for more information. Helping in this way can secure your own philanthropic visibility\, build goodwill and assist our entire Hudson Chamber nonprofit members.&nbsp\;</span></p><p><span style="font-family: Tahoma\,Geneva\,sans-serif\;">To donate\, please mark your calendar for Thursday\, May 14! In the meantime\, visit HudsonGives.org to learn more about our participating organizations and pick your favorites.&nbsp\;</span></p><p><span style="font-family: Tahoma\,Geneva\,sans-serif\;">If you don&#39\;t see your favorite nonprofit\, reach out to them to encourage their participation or make an introduction to the Hudson Gives team! Join the movement and be part of something great. Hudson County\, NJ\, has great need and tremendous nonprofits. See you on May 14!</span></p></body></html>
LOCATION:
UID:e.4074.1442066
SEQUENCE:3
DTSTAMP:20260423T060256Z
URL:https://business.hudsonchamber.org/chambereventcalendar/Details/hudson-gives-2026-1707898?sourceTypeId=Hub
END:VEVENT
END:VCALENDAR
