BEGIN:VCALENDAR
VERSION:2.0
PRODID:-//ChamberMaster//Event Calendar 2.0//EN
METHOD:PUBLISH
X-PUBLISHED-TTL:P1H
REFRESH-INTERVAL:P1H
CALSCALE:GREGORIAN
BEGIN:VTIMEZONE
TZID:America/New_York
BEGIN:DAYLIGHT
RRULE:FREQ=YEARLY;BYMONTH=3;BYDAY=2SU
DTSTART:20070101T000000
TZOFFSETFROM:-0500
TZOFFSETTO:-0400
TZNAME:Eastern Daylight Time
END:DAYLIGHT
BEGIN:STANDARD
RRULE:FREQ=YEARLY;BYMONTH=11;BYDAY=1SU
DTSTART:20070101T000000
TZOFFSETFROM:-0400
TZOFFSETTO:-0500
TZNAME:Eastern Standard Time
END:STANDARD
END:VTIMEZONE
BEGIN:VEVENT
DTSTART;TZID=America/New_York:20260606T130000
DTEND;TZID=America/New_York:20260606T170000
X-MICROSOFT-CDO-ALLDAYEVENT:FALSE
SUMMARY:Jersey City Food & Wine Walk
DESCRIPTION:Taste your way through Jersey City 🍷\n\nJoin us on June 6 for the Jersey City Food & Wine Walk—a one-of-a-kind tasting experience featuring bites and sips from top local spots across downtown. Grab your friends and explore the city\, one delicious stop at a time.\n\nAs a friend of the Hudson County Chamber of Commerce\, use code HCCC for $5 off your ticket!
X-ALT-DESC;FMTTYPE=text/html:Taste your way through Jersey City 🍷\n\nJoin us on June 6 for the Jersey City Food & Wine Walk—a one-of-a-kind tasting experience featuring bites and sips from top local spots across downtown. Grab your friends and explore the city\, one delicious stop at a time.\n\nAs a friend of the Hudson County Chamber of Commerce\, use code HCCC for $5 off your ticket!
LOCATION:Downtown Jersey City\, Jersey City\, NJ 07030
UID:e.4074.1449520
SEQUENCE:3
DTSTAMP:20260423T060414Z
URL:https://business.hudsonchamber.org/chambereventcalendar/Details/jersey-city-food-wine-walk-1716969?sourceTypeId=Hub
END:VEVENT
END:VCALENDAR
