BEGIN:VCALENDAR
VERSION:2.0
PRODID:-//ChamberMaster//Event Calendar 2.0//EN
METHOD:PUBLISH
X-PUBLISHED-TTL:P1H
REFRESH-INTERVAL:P1H
CALSCALE:GREGORIAN
BEGIN:VTIMEZONE
TZID:America/New_York
BEGIN:DAYLIGHT
RRULE:FREQ=YEARLY;BYMONTH=3;BYDAY=2SU
DTSTART:20070101T000000
TZOFFSETFROM:-0500
TZOFFSETTO:-0400
TZNAME:Eastern Daylight Time
END:DAYLIGHT
BEGIN:STANDARD
RRULE:FREQ=YEARLY;BYMONTH=11;BYDAY=1SU
DTSTART:20070101T000000
TZOFFSETFROM:-0400
TZOFFSETTO:-0500
TZNAME:Eastern Standard Time
END:STANDARD
END:VTIMEZONE
BEGIN:VEVENT
DTSTART;TZID=America/New_York:20260423T183000
DTEND;TZID=America/New_York:20260423T200000
X-MICROSOFT-CDO-ALLDAYEVENT:FALSE
SUMMARY:Jersey City Professional Women for Good Monthly Meeting - April 23
DESCRIPTION:Are you looking to build meaningful connections with other women in Jersey City while making a tangible impact on our local community? Join the Jersey City Professional Women For Good (JCPWFG) - the local chapter of Grapevine Philanthropy for a special organizing meeting as we kick off a new chapter of growth and giving.Why Join Us?We are currently looking to expand our philanthropic circle and build a sustainable Leadership Committee to guide the chapter's future. If you are passionate about community engagement\, communications\, or event planning\, we want to hear from you!Reserve Your Spot
X-ALT-DESC;FMTTYPE=text/html:<!DOCTYPE html><html><head><title></title></head><body aria-disabled="false"><p><span style="font-family: Tahoma\, Geneva\, sans-serif\; color: rgb(0\, 0\, 0)\;">Are you looking to build meaningful connections with other women in Jersey City while making a tangible impact on our local community? Join the&nbsp\;</span><a fr-original-style="" href="https://www.grapevine.org/giving-circle/pMJUllL/Jersey-City-Professional-Women-for-Good" rel="noopener noreferrer" style="user-select: auto\;" target="_blank"><strong fr-original-style="" style="font-weight: 700\;"><span style="font-family: Tahoma\, Geneva\, sans-serif\; color: rgb(0\, 0\, 0)\;">Jersey City Professional Women For Good (JCPWFG)</span></strong></a> - <span style="font-family: Tahoma\, Geneva\, sans-serif\; color: rgb(0\, 0\, 0)\;">the local chapter of Grapevine Philanthropy for a special organizing meeting as we kick off a new chapter of growth and giving.</span></p><h3 data-path-to-node="9"><span style="color: rgb(0\, 0\, 0)\;"><span style="font-family: Tahoma\,Geneva\,sans-serif\;"><b data-index-in-node="0" data-path-to-node="9">Why Join Us?</b></span></span></h3><p data-path-to-node="10"><span style="color: rgb(0\, 0\, 0)\;"><span style="font-family: Tahoma\,Geneva\,sans-serif\;">We are currently looking to expand our philanthropic circle and build a sustainable <b data-index-in-node="84" data-path-to-node="10">Leadership Committee</b> to guide the chapter&rsquo\;s future. If you are passionate about community engagement\, communications\, or event planning\, we want to hear from you!</span></span></p><p data-path-to-node="10"><a fr-original-style="" href="https://www.eventbrite.com/e/grapevine-jersey-city-professional-women-for-good-tickets-1987328646479#location" rel="noopener noreferrer" style="user-select: auto\;" target="_blank"><strong fr-original-style="" style="font-weight: 700\;"><span style="color: rgb(0\, 0\, 0)\;"><span style="font-family: Tahoma\,Geneva\,sans-serif\;">Reserve Your Spot</span></span></strong></a></p></body></html>
LOCATION:239 Washington Street Jersey City NJ 07302
UID:e.4074.1446395
SEQUENCE:3
DTSTAMP:20260423T060629Z
URL:https://business.hudsonchamber.org/chambereventcalendar/Details/jersey-city-professional-women-for-good-monthly-meeting-april-23-1713127?sourceTypeId=Hub
END:VEVENT
END:VCALENDAR
